BEGIN:VCALENDAR
VERSION:2.0
PRODID:-//hacksw/handcal//NONSGML v1.0//EN
BEGIN:VEVENT
DTSTAMP:20260426T110000Z
DTSTART:20260426T110000Z
DTEND:20260426T140000Z

SUMMARY:All Out Dance Competition 
DESCRIPTION:A competition and convention that jumped onto the scene in 2020! Here at All Out, we put our focus on creating a fun, positive, confidence-building environment where dancers, studio owners / teachers, and even parents can learn and grow not just as artists, but as people.  
END:VEVENT
END:VCALENDAR